BEGIN:VCALENDAR
VERSION:2.0
PRODID:-//eventon.com NONSGML v1.0//EN
CALSCALE:GREGORIAN
METHOD:PUBLISH
BEGIN:VEVENT
UID:69e4d52aa8388
DTSTAMP:20260419T131418Z
DTSTART:20251117T140000Z
DTEND:20251117T161500Z
LOCATION:&#039;t Trefpunt Dorpsstraat 41\,  Broek op Langedijk
SUMMARY:Beelden uit Broek op Langedijk
DESCRIPTION:presentatie door Piet van Kleef\,  Stichting Langedijker Verled
 en Programma 14:00 Mededelingen bestuur 14:15 Presentatie van foto&#8217;s 
 van Broek op Langedijk14:55 Pauze15:15 Dorpsfilm van Broek op Langedijk16:1
 5 Einde film\nhttps://langedijkerverleden.nl/events/beelden-uit-broek-op-la
 ngedijk/
URL:https://langedijkerverleden.nl/events/beelden-uit-broek-op-langedijk/
END:VEVENT
END:VCALENDAR